BEGIN:VCALENDAR
VERSION:2.0
PRODID:-//Roman Christian Hafner - ECPv5.1.6//NONSGML v1.0//EN
CALSCALE:GREGORIAN
METHOD:PUBLISH
X-WR-CALNAME:Roman Christian Hafner
X-ORIGINAL-URL:https://roman-christian-hafner.ch
X-WR-CALDESC:Veranstaltungen für Roman Christian Hafner
BEGIN:VTIMEZONE
TZID:UTC
BEGIN:STANDARD
TZOFFSETFROM:+0000
TZOFFSETTO:+0000
TZNAME:UTC
DTSTART:20190101T000000
END:STANDARD
END:VTIMEZONE
BEGIN:VEVENT
DTSTART;TZID=UTC:20190914T223000
DTEND;TZID=UTC:20190914T223000
DTSTAMP:20260419T133300
CREATED:20190729T131823Z
LAST-MODIFIED:20190729T134256Z
UID:859-1568500200-1568500200@roman-christian-hafner.ch
SUMMARY:WEBINAR AKTIVIERUNG DER SCHÖPFERKRAFT
DESCRIPTION:Viele Menschen wissen theoretisch oder intuitiv\, dass sie Schöpfer sind und sind auf der Suche nach Wegen\, ihre Schöpferkraft frei zu setzen und verfügbar zu machen. Dabei suchen sie in der Regel im Außen. \n  \nLeider dient der „esoterische Supermarkt“ meist nicht der Selbstfindung\, sondern eher der Ablenkung vom Selbst. \n  \nDie echte Schöpferkraft ist nicht im Außen zu finden sondern ist\, wie alle anderen Fähigkeiten auch\,  bereits in dir und wartet nur darauf aktiviert zu werden. Das Innere Wissen um diese magische Kraft drängt oft ungeduldig darauf\, diese endlich zu nutzen. Dadurch entstehen nicht selten Unzufriedenheit\, Frust\, Nervosität\, Unruhe und Schlaflosigkeit ! Auch das dringende Gefühl unbedingt etwas Neues tun zu wollen\, aber nicht zu wissen\, was es ist oder nicht in die Umsetzung zu kommen\, gehört zu den vielfältigen Symptomen. \n  \nDa die Schöpfer\, die ihre Kraft noch nicht nutzen\, generell ihren Wert nicht angenommen haben\, gelingt ihnen die Manifestation ihrer eigenen glücklichen Lebensumstände nur selten. \n  \nDie Voraussetzung für das echte Erschaffen aus dem Sein heraus ist also die völlige Annahme des eigenen Absoluten Wertes ! \nWenn du dir deines Selbstwertes\, also deines absoluten vollkommenen Wertes in vollem Umfang bewusst bist\, wirst du wie von selbst Liebe\, Wertschätzung und Anerkennung im Außen finden. Ganz einfach aus dir selbst heraus.  Dadurch entsteht eine Fülle im Leben\, die auf Werten wie Freude\, Leichtigkeit\, Achtsamkeit\, Freiheit und noch vielem mehr beruht. Auch ein Mangel an finanzieller Fülle wird dadurch leicht aufgehoben. \n  \nIn diesem Seminar werden wir zwei Tage lang den absoluten Wert vollständig erkennen\, erfahren und verankern.  Danach werden wir gemeinsam deine persönlichen Wünsche manifestieren. Bitte halte für dieses Seminar einige deiner größten Wünsche bereit ! \n  \nAlles\, was du sein möchtest\, bist du bereits. Du brauchst es nur zu entdecken\, zu erinnern und anzunehmen. \n  \n  \n\n\n\nDatum:\n14. September 2019 von 10.30 Uhr bis ca. 11.30 Uhr (Webinar Zeit) 12:30 Uhr bis ca.-13:30 Uhr  (Webinar)15:00 Uhr bis ca.-16:00 Uhr (Webinar) 17:00 Uhr bis ca. 18:00 Uhr \nZwischen den Terminen (Freiraum mit Übungen)\n\n\n\n\n15. September 2019 von 10.30 Uhr bis ca. 11.30 Uhr (Webinar Zeit) 12:30 Uhr bis ca.-13:30 Uhr  (Webinar )15:00 Uhr bis ca.-16:00 Uhr (Webinar) \nZwischen den Terminen (Freiraum mit Übungen) \n\n\n\n\n  \nJetzt buchen
URL:https://roman-christian-hafner.ch/event/webinar-aktivierung-der-schoepferkraft/
CATEGORIES:Webinar
ATTACH;FMTTYPE=image/jpeg:https://roman-christian-hafner.ch/wp-content/uploads/2019/07/webinar-aktivierung-der-schöpferkraft.jpg
END:VEVENT
END:VCALENDAR